BEGIN:VCALENDAR
VERSION:2.0
PRODID:-//SpVgg Schiltach 1926 e. V. - ECPv6.15.19//NONSGML v1.0//EN
CALSCALE:GREGORIAN
METHOD:PUBLISH
X-WR-CALNAME:SpVgg Schiltach 1926 e. V.
X-ORIGINAL-URL:https://spvgg-schiltach.de
X-WR-CALDESC:Veranstaltungen für SpVgg Schiltach 1926 e. V.
REFRESH-INTERVAL;VALUE=DURATION:PT1H
X-Robots-Tag:noindex
X-PUBLISHED-TTL:PT1H
BEGIN:VTIMEZONE
TZID:Europe/Berlin
BEGIN:DAYLIGHT
TZOFFSETFROM:+0100
TZOFFSETTO:+0200
TZNAME:CEST
DTSTART:20250330T010000
END:DAYLIGHT
BEGIN:STANDARD
TZOFFSETFROM:+0200
TZOFFSETTO:+0100
TZNAME:CET
DTSTART:20251026T010000
END:STANDARD
BEGIN:DAYLIGHT
TZOFFSETFROM:+0100
TZOFFSETTO:+0200
TZNAME:CEST
DTSTART:20260329T010000
END:DAYLIGHT
BEGIN:STANDARD
TZOFFSETFROM:+0200
TZOFFSETTO:+0100
TZNAME:CET
DTSTART:20261025T010000
END:STANDARD
BEGIN:DAYLIGHT
TZOFFSETFROM:+0100
TZOFFSETTO:+0200
TZNAME:CEST
DTSTART:20270328T010000
END:DAYLIGHT
BEGIN:STANDARD
TZOFFSETFROM:+0200
TZOFFSETTO:+0100
TZNAME:CET
DTSTART:20271031T010000
END:STANDARD
END:VTIMEZONE
BEGIN:VEVENT
DTSTART;TZID=Europe/Berlin:20260426T123000
DTEND;TZID=Europe/Berlin:20260426T200000
DTSTAMP:20260426T044018
CREATED:20260412T185801Z
LAST-MODIFIED:20260412T185801Z
UID:16295-1777206600-1777233600@spvgg-schiltach.de
SUMMARY:SV Kippenheim - SVS
DESCRIPTION:23. Spieltag | SVS zu Gast beim SV Kippenheim \nSonntag 26.04.2026 13:00 Uhr  SV Kippenheim II : SpVgg Schiltach II\nSonntag 26.04.2026 15:00 Uhr  SV Kippenheim I : SpVgg Schiltach I
URL:https://spvgg-schiltach.de/event/sv-kippenheim-svs/
LOCATION:SV Kippenheim\, SchmieheimerStr. 108\, Kippenheim\, 77971
CATEGORIES:Kreisliga
ATTACH;FMTTYPE=image/jpeg:https://spvgg-schiltach.de/wp-content/uploads/2026/03/44210-scaled.jpg
END:VEVENT
END:VCALENDAR